BEGIN:VCALENDAR
VERSION:2.0
PRODID:-//Toastmasters District 86 - ECPv6.15.16//NONSGML v1.0//EN
CALSCALE:GREGORIAN
METHOD:PUBLISH
X-WR-CALNAME:Toastmasters District 86
X-ORIGINAL-URL:https://toastmasters86.org
X-WR-CALDESC:Events for Toastmasters District 86
REFRESH-INTERVAL;VALUE=DURATION:PT1H
X-Robots-Tag:noindex
X-PUBLISHED-TTL:PT1H
BEGIN:VTIMEZONE
TZID:America/Toronto
BEGIN:DAYLIGHT
TZOFFSETFROM:-0500
TZOFFSETTO:-0400
TZNAME:EDT
DTSTART:20230312T070000
END:DAYLIGHT
BEGIN:STANDARD
TZOFFSETFROM:-0400
TZOFFSETTO:-0500
TZNAME:EST
DTSTART:20231105T060000
END:STANDARD
BEGIN:DAYLIGHT
TZOFFSETFROM:-0500
TZOFFSETTO:-0400
TZNAME:EDT
DTSTART:20240310T070000
END:DAYLIGHT
BEGIN:STANDARD
TZOFFSETFROM:-0400
TZOFFSETTO:-0500
TZNAME:EST
DTSTART:20241103T060000
END:STANDARD
BEGIN:DAYLIGHT
TZOFFSETFROM:-0500
TZOFFSETTO:-0400
TZNAME:EDT
DTSTART:20250309T070000
END:DAYLIGHT
BEGIN:STANDARD
TZOFFSETFROM:-0400
TZOFFSETTO:-0500
TZNAME:EST
DTSTART:20251102T060000
END:STANDARD
END:VTIMEZONE
BEGIN:VEVENT
DTSTART;TZID=America/Toronto:20240831T000000
DTEND;TZID=America/Toronto:20240831T235959
DTSTAMP:20260422T031230
CREATED:20240731T011015Z
LAST-MODIFIED:20240819T031054Z
UID:20072-1725062400-1725148799@toastmasters86.org
SUMMARY:Area Directors submit Area Success Plan to District Director
DESCRIPTION:« All Events\n 				\n				\n				\n				\n					This event has passed. \n				\n				\n				\n				\n					\n	Area Directors submit Area Success Plan to District Director				\n				\n				\n				\n					\n		\n			August 31\n\n		\n\n\n	\n				\n				\n				\n				\n					\n	\n				\n				\n				\n				\n									\n	\n		\n			August 31\, 2024		\n\n					All day\n		\n			 \n\n\n\n\nArea Directors must submit their Area Success Plans to the District Director \n\n\n\n		\n\n\n\n    \n\n\n\n	\n		District Director\n	\n					districtdirector@toastmasters86.org \n	\n\n\n\n	\n		\n	\n\n\n\n	\n		Learn More	\n\n\n\n	\n		\n			\n				\n					\n						\n	\n	\n\n						\n							Add to calendar						\n						\n	\n\n					\n					\n						\n															\n									\n										Google Calendar									\n								\n															\n									\n										iCalendar									\n								\n															\n									\n										Outlook 365									\n								\n															\n									\n										Outlook Live									\n								\n													\n					\n				\n			\n		\n	\n\n\n\nRelated Events\n\n\n			\n	\n\n	\n\n	\n	\n		\n			District 86 Spring Conference		\n	\n	April 28 @ 8:00 am - May 3 @ 5:00 pm\n\n	\n								\n				\n				\n						\n					\n			\n						\n				\n					\n	\n\n	Categories:	\n		Area and Division Director Reminders\, District Director Events	\n\n				\n				\n				\n				\n					\n	\n	Tags:	\n		\n	Area Director\,\n\n	Success Plan\n	\n\n				\n				\n				\n				\n					\n	\n	Website:	\n	https://toastmasterscdn.azureedge.net/medias/files/department-documents/district-documents/area-success-plan-ffe.pdf\n\n				\n				\n					\n		\n				\n			\n							\n		\n					\n		\n				\n						\n					\n			\n							\n		\n					\n		\n				\n						\n					\n			\n						\n				\n					\n	\n		\n\n	\n	Add to calendar	\n		\n	\n\n		\n			\n									\n	Google Calendar\n\n									\n	iCalendar\n\n									\n	Outlook 365\n\n									\n	Outlook Live\n\n							\n		\n\n		\n	\n\n				\n				\n					\n		\n					\n		\n				\n						\n					\n			\n						\n				\n					\n	\n		\n\n				Division L COT Training	\n\n\n		\n	\n		Division Council Meeting This Month
URL:https://toastmasters86.org/event/area-directors-submit-area-success-plan-to-district-director/
CATEGORIES:Area and Division Director Reminders,District Director Events
ATTACH;FMTTYPE=image/png:https://toastmasters86.org/wp-content/uploads/2024/07/Area-Director-Success-Plans-Due-1200x850-1.png
END:VEVENT
END:VCALENDAR