BEGIN:VCALENDAR
VERSION:2.0
PRODID:-//Toastmasters District 86 - ECPv6.15.16//NONSGML v1.0//EN
CALSCALE:GREGORIAN
METHOD:PUBLISH
X-WR-CALNAME:Toastmasters District 86
X-ORIGINAL-URL:https://toastmasters86.org
X-WR-CALDESC:Events for Toastmasters District 86
REFRESH-INTERVAL;VALUE=DURATION:PT1H
X-Robots-Tag:noindex
X-PUBLISHED-TTL:PT1H
BEGIN:VTIMEZONE
TZID:America/Toronto
BEGIN:DAYLIGHT
TZOFFSETFROM:-0500
TZOFFSETTO:-0400
TZNAME:EDT
DTSTART:20240310T070000
END:DAYLIGHT
BEGIN:STANDARD
TZOFFSETFROM:-0400
TZOFFSETTO:-0500
TZNAME:EST
DTSTART:20241103T060000
END:STANDARD
BEGIN:DAYLIGHT
TZOFFSETFROM:-0500
TZOFFSETTO:-0400
TZNAME:EDT
DTSTART:20250309T070000
END:DAYLIGHT
BEGIN:STANDARD
TZOFFSETFROM:-0400
TZOFFSETTO:-0500
TZNAME:EST
DTSTART:20251102T060000
END:STANDARD
BEGIN:DAYLIGHT
TZOFFSETFROM:-0500
TZOFFSETTO:-0400
TZNAME:EDT
DTSTART:20260308T070000
END:DAYLIGHT
BEGIN:STANDARD
TZOFFSETFROM:-0400
TZOFFSETTO:-0500
TZNAME:EST
DTSTART:20261101T060000
END:STANDARD
END:VTIMEZONE
BEGIN:VEVENT
DTSTART;TZID=America/Toronto:20251101T080000
DTEND;TZID=America/Toronto:20251101T170000
DTSTAMP:20260421T172847
CREATED:20251014T200309Z
LAST-MODIFIED:20251014T200313Z
UID:10000269-1761984000-1762016400@toastmasters86.org
SUMMARY:District Leadership committee - call for candidates
DESCRIPTION:Interested in a leadership role? The District Leadership Committee is looking for members to stand as candidates. This is a key opportunity to serve and provide direction for District 86.
URL:https://toastmasters86.org/event/district-leadership-committee-call-for-candidates/
ATTACH;FMTTYPE=image/png:https://toastmasters86.org/wp-content/uploads/2022/10/Toastmasters-Checkmark-shaking-hands-1200x683-1.png
END:VEVENT
BEGIN:VEVENT
DTSTART;TZID=America/Toronto:20251101T080000
DTEND;TZID=America/Toronto:20251101T170000
DTSTAMP:20260421T172847
CREATED:20251014T204234Z
LAST-MODIFIED:20251014T204708Z
UID:10000274-1761984000-1762016400@toastmasters86.org
SUMMARY:Club Officer Training round 2 - Nov 1 to Feb 28
DESCRIPTION:Round 2 of Club Officer Training is here! Multiple sessions will be offered across the district from Nov 1 to Feb 28. All club officers are encouraged to attend a session to meet their training requirement
URL:https://toastmasters86.org/event/club-officer-training-round-2/
CATEGORIES:Club Officer Training,Club Reminders
ATTACH;FMTTYPE=image/png:https://toastmasters86.org/wp-content/uploads/2025/10/COT-deadline-3.png
END:VEVENT
BEGIN:VEVENT
DTSTART;TZID=America/Toronto:20251101T080000
DTEND;TZID=America/Toronto:20251114T170000
DTSTAMP:20260421T172847
CREATED:20251014T201309Z
LAST-MODIFIED:20251014T201353Z
UID:10000271-1761984000-1763139600@toastmasters86.org
SUMMARY:Division Humorous Speech Contests begin
DESCRIPTION:Division Contest Season starts! Between November 1st and 14th\, various Division-level contests for the Humorous Speech category will be held. Check with your Division Director for specific dates and locations.
URL:https://toastmasters86.org/event/division-humorous-speech-contests-begin/
CATEGORIES:Area and Division Director Reminders,Division Speech Contests
ATTACH;FMTTYPE=image/png:https://toastmasters86.org/wp-content/uploads/2025/10/Humor-division-contest.png
END:VEVENT
BEGIN:VEVENT
DTSTART;TZID=America/Toronto:20251101T080000
DTEND;TZID=America/Toronto:20251130T170000
DTSTAMP:20260421T172847
CREATED:20251014T195000Z
LAST-MODIFIED:20251014T195003Z
UID:10000267-1761984000-1764522000@toastmasters86.org
SUMMARY:Club Open Houses
DESCRIPTION:Promote November as Toastmasters Month.
URL:https://toastmasters86.org/event/club-open-houses/
CATEGORIES:Club Events,Club Reminders
ATTACH;FMTTYPE=image/png:https://toastmasters86.org/wp-content/uploads/2025/07/CLUB-OPEN-HOUSES-1.png
END:VEVENT
BEGIN:VEVENT
DTSTART;TZID=America/Toronto:20251101T080000
DTEND;TZID=America/Toronto:20251130T170000
DTSTAMP:20260421T172847
CREATED:20251014T195505Z
LAST-MODIFIED:20251014T195509Z
UID:10000268-1761984000-1764522000@toastmasters86.org
SUMMARY:Elections for Clubs electing Officers semi-annually held during first meeting in November
DESCRIPTION:Elections for Clubs electing Officers semi-annually held during first meeting in November
URL:https://toastmasters86.org/event/elections-for-clubs-electing-officers-semi-annually-held-during-first-meeting-in-november-2/
CATEGORIES:Club Reminders
ATTACH;FMTTYPE=image/png:https://toastmasters86.org/wp-content/uploads/2024/10/Voting-1200x850-1.png
END:VEVENT
BEGIN:VEVENT
DTSTART;TZID=America/Toronto:20251101T083000
DTEND;TZID=America/Toronto:20251101T120000
DTSTAMP:20260421T172847
CREATED:20251014T200825Z
LAST-MODIFIED:20251014T200829Z
UID:10000270-1761985800-1761998400@toastmasters86.org
SUMMARY:District Executive Committee Meeting
DESCRIPTION:District Executive Council Meeting for DEC Members only \n\n\n\nThe next District Executive Committee (DEC) meeting is scheduled for Saturday\, November 1\, 2025at 9 a.m.  We will open the zoom meeting at 8:30 a.m.The meeting will last approximately three hours\, and there will be breakout rooms for Division Council meetings after the DEC. 
URL:https://toastmasters86.org/event/district-executive-committee-meeting/
CATEGORIES:Area and Division Director Reminders,District Council,District Director Events,District Events,District Executive Council
ATTACH;FMTTYPE=image/png:https://toastmasters86.org/wp-content/uploads/2025/07/District-Executive-council-meeting-1.png
END:VEVENT
END:VCALENDAR