BEGIN:VCALENDAR
VERSION:2.0
PRODID:-//Toastmasters District 86 - ECPv6.15.16//NONSGML v1.0//EN
CALSCALE:GREGORIAN
METHOD:PUBLISH
X-WR-CALNAME:Toastmasters District 86
X-ORIGINAL-URL:https://toastmasters86.org
X-WR-CALDESC:Events for Toastmasters District 86
REFRESH-INTERVAL;VALUE=DURATION:PT1H
X-Robots-Tag:noindex
X-PUBLISHED-TTL:PT1H
BEGIN:VTIMEZONE
TZID:America/Toronto
BEGIN:DAYLIGHT
TZOFFSETFROM:-0500
TZOFFSETTO:-0400
TZNAME:EDT
DTSTART:20240310T070000
END:DAYLIGHT
BEGIN:STANDARD
TZOFFSETFROM:-0400
TZOFFSETTO:-0500
TZNAME:EST
DTSTART:20241103T060000
END:STANDARD
BEGIN:DAYLIGHT
TZOFFSETFROM:-0500
TZOFFSETTO:-0400
TZNAME:EDT
DTSTART:20250309T070000
END:DAYLIGHT
BEGIN:STANDARD
TZOFFSETFROM:-0400
TZOFFSETTO:-0500
TZNAME:EST
DTSTART:20251102T060000
END:STANDARD
BEGIN:DAYLIGHT
TZOFFSETFROM:-0500
TZOFFSETTO:-0400
TZNAME:EDT
DTSTART:20260308T070000
END:DAYLIGHT
BEGIN:STANDARD
TZOFFSETFROM:-0400
TZOFFSETTO:-0500
TZNAME:EST
DTSTART:20261101T060000
END:STANDARD
END:VTIMEZONE
BEGIN:VEVENT
DTSTART;TZID=America/Toronto:20250815T000000
DTEND;TZID=America/Toronto:20250815T235900
DTSTAMP:20260425T091058
CREATED:20250723T153320Z
LAST-MODIFIED:20250729T001036Z
UID:10000218-1755216000-1755302340@toastmasters86.org
SUMMARY:Last day for Clubs to asssign Proxies for the Toastmasters Annual Business meeting
DESCRIPTION:Last Day to Assign Your Club’s Proxy for the Toastmasters Annual Business Meeting \n\n\n\nMake sure either your Club President of Club Secretary do this
URL:https://toastmasters86.org/event/last-day-for-clubs-to-asssign-proxies-for-the-toastmasters-annual-business-meeting/
CATEGORIES:Club Reminders,District Director Events
ATTACH;FMTTYPE=image/png:https://toastmasters86.org/wp-content/uploads/2025/07/Proxy-assingment-1.png
END:VEVENT
END:VCALENDAR