BEGIN:VCALENDAR
VERSION:2.0
PRODID:-//Toastmasters District 86 - ECPv6.15.16//NONSGML v1.0//EN
CALSCALE:GREGORIAN
METHOD:PUBLISH
X-ORIGINAL-URL:https://toastmasters86.org
X-WR-CALDESC:Events for Toastmasters District 86
REFRESH-INTERVAL;VALUE=DURATION:PT1H
X-Robots-Tag:noindex
X-PUBLISHED-TTL:PT1H
BEGIN:VTIMEZONE
TZID:America/Toronto
BEGIN:DAYLIGHT
TZOFFSETFROM:-0500
TZOFFSETTO:-0400
TZNAME:EDT
DTSTART:20250309T070000
END:DAYLIGHT
BEGIN:STANDARD
TZOFFSETFROM:-0400
TZOFFSETTO:-0500
TZNAME:EST
DTSTART:20251102T060000
END:STANDARD
BEGIN:DAYLIGHT
TZOFFSETFROM:-0500
TZOFFSETTO:-0400
TZNAME:EDT
DTSTART:20260308T070000
END:DAYLIGHT
BEGIN:STANDARD
TZOFFSETFROM:-0400
TZOFFSETTO:-0500
TZNAME:EST
DTSTART:20261101T060000
END:STANDARD
BEGIN:DAYLIGHT
TZOFFSETFROM:-0500
TZOFFSETTO:-0400
TZNAME:EDT
DTSTART:20270314T070000
END:DAYLIGHT
BEGIN:STANDARD
TZOFFSETFROM:-0400
TZOFFSETTO:-0500
TZNAME:EST
DTSTART:20271107T060000
END:STANDARD
END:VTIMEZONE
BEGIN:VEVENT
DTSTART;TZID=America/Toronto:20260117T083000
DTEND;TZID=America/Toronto:20260117T120000
DTSTAMP:20260422T192548
CREATED:20251015T020403Z
LAST-MODIFIED:20260104T202450Z
UID:10000289-1768638600-1768651200@toastmasters86.org
SUMMARY:District Executive Committee Meeting
DESCRIPTION:District Executive Council Meeting for DEC Members only \n\n\n\nDistrict Executive Committee (DEC) Meeting: The next DEC meeting is scheduled for January 17\, 2026. Please mark your calendars! The specific time and meeting link will be shared soon.
URL:https://toastmasters86.org/event/district-executive-committee-meeting-2/
CATEGORIES:Area and Division Director Reminders,District Council,District Director Events,District Events,District Executive Council
ATTACH;FMTTYPE=image/png:https://toastmasters86.org/wp-content/uploads/2025/07/District-Executive-council-meeting-1.png
END:VEVENT
END:VCALENDAR