BEGIN:VCALENDAR
VERSION:2.0
PRODID:-//Toastmasters District 86 - ECPv6.15.16//NONSGML v1.0//EN
CALSCALE:GREGORIAN
METHOD:PUBLISH
X-WR-CALNAME:Toastmasters District 86
X-ORIGINAL-URL:https://toastmasters86.org
X-WR-CALDESC:Events for Toastmasters District 86
REFRESH-INTERVAL;VALUE=DURATION:PT1H
X-Robots-Tag:noindex
X-PUBLISHED-TTL:PT1H
BEGIN:VTIMEZONE
TZID:America/Toronto
BEGIN:DAYLIGHT
TZOFFSETFROM:-0500
TZOFFSETTO:-0400
TZNAME:EDT
DTSTART:20250309T070000
END:DAYLIGHT
BEGIN:STANDARD
TZOFFSETFROM:-0400
TZOFFSETTO:-0500
TZNAME:EST
DTSTART:20251102T060000
END:STANDARD
BEGIN:DAYLIGHT
TZOFFSETFROM:-0500
TZOFFSETTO:-0400
TZNAME:EDT
DTSTART:20260308T070000
END:DAYLIGHT
BEGIN:STANDARD
TZOFFSETFROM:-0400
TZOFFSETTO:-0500
TZNAME:EST
DTSTART:20261101T060000
END:STANDARD
BEGIN:DAYLIGHT
TZOFFSETFROM:-0500
TZOFFSETTO:-0400
TZNAME:EDT
DTSTART:20270314T070000
END:DAYLIGHT
BEGIN:STANDARD
TZOFFSETFROM:-0400
TZOFFSETTO:-0500
TZNAME:EST
DTSTART:20271107T060000
END:STANDARD
END:VTIMEZONE
BEGIN:VEVENT
DTSTART;TZID=America/Toronto:20260321T090000
DTEND;TZID=America/Toronto:20260321T120000
DTSTAMP:20260422T020115
CREATED:20260302T043400Z
LAST-MODIFIED:20260302T043418Z
UID:10000366-1774083600-1774094400@toastmasters86.org
SUMMARY:Division S Table Topics and International Speech Contests
DESCRIPTION:
URL:https://toastmasters86.org/event/division-s-table-topics-and-international-speech-contests/
LOCATION:Village Green Community Church\, 505 Village Green Ave\, London\, ON\, Canada
CATEGORIES:Division Reminders,Division S Events,Division Speech Contests
ATTACH;FMTTYPE=image/png:https://toastmasters86.org/wp-content/uploads/2026/03/Division-ISC-and-TT-Contests-Div-S.png
END:VEVENT
END:VCALENDAR